BEGIN:VCALENDAR
VERSION:2.0
PRODID:spatie/icalendar-generator
DESCRIPTION:Events from Connor Downs Residents&amp;#039\; Association
X-WR-CALDESC:Events from Connor Downs Residents&amp;#039\; Association
REFRESH-INTERVAL;VALUE=DURATION:PT1440M
X-PUBLISHED-TTL:PT1440M
BEGIN:VTIMEZONE
TZID:Europe/London
BEGIN:STANDARD
DTSTART:20251026T020000Z
TZOFFSETFROM:+0100
TZOFFSETTO:+0000
END:STANDARD
BEGIN:DAYLIGHT
DTSTART:20260329T010000Z
TZOFFSETFROM:+0000
TZOFFSETTO:+0100
END:DAYLIGHT
END:VTIMEZONE
BEGIN:VTIMEZONE
TZID:UTC
BEGIN:STANDARD
DTSTART:20250723T230545Z
TZOFFSETFROM:+0000
TZOFFSETTO:+0000
END:STANDARD
END:VTIMEZONE
BEGIN:VEVENT
UID:21-3
DTSTAMP:20260419T230545Z
SUMMARY:Sandcastles Playgroup
LOCATION:Sunday School Sunday School Hall Turnpike Road\, Connor Downs Hayl
 e  TR27 5DT
ORGANIZER;CN=admin:MAILTO:admin@cdra.org.uk
RRULE:FREQ=WEEKLY;UNTIL=20261101T000000Z
DTSTART;TZID=Europe/London:20260309T090000
DTEND;TZID=Europe/London:20260313T153000
X-ALT-DESC;FMTTYPE=TEXT/HTML:<p>Pre-School playgroup for ages 2-5 TERM TIME
  ONLY</p>\n
CATEGORIES:Playgroup
URL;VALUE=URI:https://cdra.org.uk/mc-events/sandcastles-playgroup/?mc_id=21
METHOD:PUBLISH
END:VEVENT
END:VCALENDAR