BEGIN:VCALENDAR
VERSION:2.0
PRODID:spatie/icalendar-generator
DESCRIPTION:Events from Connor Downs Residents&amp;#039\; Association
X-WR-CALDESC:Events from Connor Downs Residents&amp;#039\; Association
REFRESH-INTERVAL;VALUE=DURATION:PT1440M
X-PUBLISHED-TTL:PT1440M
BEGIN:VTIMEZONE
TZID:Europe/London
BEGIN:STANDARD
DTSTART:20251026T020000Z
TZOFFSETFROM:+0100
TZOFFSETTO:+0000
END:STANDARD
BEGIN:DAYLIGHT
DTSTART:20260329T010000Z
TZOFFSETFROM:+0000
TZOFFSETTO:+0100
END:DAYLIGHT
BEGIN:STANDARD
DTSTART:20261025T020000Z
TZOFFSETFROM:+0100
TZOFFSETTO:+0000
END:STANDARD
END:VTIMEZONE
BEGIN:VTIMEZONE
TZID:UTC
BEGIN:STANDARD
DTSTART:20250724T043113Z
TZOFFSETFROM:+0000
TZOFFSETTO:+0000
END:STANDARD
END:VTIMEZONE
BEGIN:VEVENT
UID:262-8
DTSTAMP:20260420T043113Z
SUMMARY:Friendship Club (60+)
LOCATION:Old School Church Hall The Green Lane St Erth Hayle  TR27 6HS
ORGANIZER;CN=admin:MAILTO:admin@cdra.org.uk
RRULE:FREQ=WEEKLY;UNTIL=20261201T000000Z
DTSTART;TZID=Europe/London:20260512T140000
DTEND;TZID=Europe/London:20260512T160000
X-ALT-DESC;FMTTYPE=TEXT/HTML:<p>Contact: 01736 850 758</p>\n
CATEGORIES:Clubs &amp; Activities
URL;VALUE=URI:https://cdra.org.uk/mc-events/friendship-club-60/?mc_id=262
METHOD:PUBLISH
END:VEVENT
END:VCALENDAR