BEGIN:VCALENDAR
VERSION:2.0
PRODID:spatie/icalendar-generator
DESCRIPTION:Events from Connor Downs Residents&amp;#039\; Association
X-WR-CALDESC:Events from Connor Downs Residents&amp;#039\; Association
REFRESH-INTERVAL;VALUE=DURATION:PT1440M
X-PUBLISHED-TTL:PT1440M
BEGIN:VTIMEZONE
TZID:Europe/London
BEGIN:STANDARD
DTSTART:20251026T020000Z
TZOFFSETFROM:+0100
TZOFFSETTO:+0000
END:STANDARD
BEGIN:DAYLIGHT
DTSTART:20260329T010000Z
TZOFFSETFROM:+0000
TZOFFSETTO:+0100
END:DAYLIGHT
END:VTIMEZONE
BEGIN:VTIMEZONE
TZID:UTC
BEGIN:STANDARD
DTSTART:20250724T040612Z
TZOFFSETFROM:+0000
TZOFFSETTO:+0000
END:STANDARD
END:VTIMEZONE
BEGIN:VEVENT
UID:353-10
DTSTAMP:20260420T040612Z
SUMMARY:Lindy Hop Dancing
LOCATION:WI Hall WI Hall  Turnpike Road   TR27 5DT
ORGANIZER;CN=admin:MAILTO:admin@cdra.org.uk
RRULE:FREQ=WEEKLY;UNTIL=20261201T000000Z
DTSTART;TZID=Europe/London:20260210T193000
DTEND;TZID=Europe/London:20260210T220000
X-ALT-DESC;FMTTYPE=TEXT/HTML:<p>Beginners &amp;amp\; Intermediate Email Teena: 
 lindycats56@gmail.com</p>\n
CATEGORIES:Clubs &amp; Activities
URL;VALUE=URI:https://cdra.org.uk/mc-events/lindy-hop-dancing/?mc_id=353
METHOD:PUBLISH
END:VEVENT
END:VCALENDAR