BEGIN:VCALENDAR
VERSION:2.0
PRODID:spatie/icalendar-generator
DESCRIPTION:Events from Connor Downs Residents&amp;#039\; Association
X-WR-CALDESC:Events from Connor Downs Residents&amp;#039\; Association
REFRESH-INTERVAL;VALUE=DURATION:PT1440M
X-PUBLISHED-TTL:PT1440M
BEGIN:VTIMEZONE
TZID:Europe/London
BEGIN:STANDARD
DTSTART:20251026T020000Z
TZOFFSETFROM:+0100
TZOFFSETTO:+0000
END:STANDARD
BEGIN:DAYLIGHT
DTSTART:20260329T010000Z
TZOFFSETFROM:+0000
TZOFFSETTO:+0100
END:DAYLIGHT
END:VTIMEZONE
BEGIN:VTIMEZONE
TZID:UTC
BEGIN:STANDARD
DTSTART:20250724T060651Z
TZOFFSETFROM:+0000
TZOFFSETTO:+0000
END:STANDARD
END:VTIMEZONE
BEGIN:VEVENT
UID:408-11
DTSTAMP:20260420T060651Z
SUMMARY:West Cornwall Mobile Post Office
LOCATION:
ORGANIZER;CN=admin:MAILTO:admin@cdra.org.uk
RRULE:FREQ=WEEKLY;UNTIL=20261202T000000Z
DTSTART;TZID=Europe/London:20260304T090000
DTEND;TZID=Europe/London:20260304T110000
X-ALT-DESC;FMTTYPE=TEXT/HTML:<p>Check Social Media for times</p>\n
CATEGORIES:Clubs &amp; Activities
URL;VALUE=URI:https://cdra.org.uk/mc-events/west-cornwall-mobile-post-offic
 e/?mc_id=408
METHOD:PUBLISH
END:VEVENT
END:VCALENDAR