BEGIN:VCALENDAR
VERSION:2.0
PRODID:spatie/icalendar-generator
DESCRIPTION:Events from Connor Downs Residents&amp;#039\; Association
X-WR-CALDESC:Events from Connor Downs Residents&amp;#039\; Association
REFRESH-INTERVAL;VALUE=DURATION:PT1440M
X-PUBLISHED-TTL:PT1440M
BEGIN:VTIMEZONE
TZID:Europe/London
BEGIN:STANDARD
DTSTART:20251026T020000Z
TZOFFSETFROM:+0100
TZOFFSETTO:+0000
END:STANDARD
BEGIN:DAYLIGHT
DTSTART:20260329T010000Z
TZOFFSETFROM:+0000
TZOFFSETTO:+0100
END:DAYLIGHT
END:VTIMEZONE
BEGIN:VTIMEZONE
TZID:UTC
BEGIN:STANDARD
DTSTART:20250723T212504Z
TZOFFSETFROM:+0000
TZOFFSETTO:+0000
END:STANDARD
END:VTIMEZONE
BEGIN:VEVENT
UID:603-17
DTSTAMP:20260419T212504Z
SUMMARY:Legwarmers and Laughs
LOCATION:WI Hall WI Hall  Turnpike Road   TR27 5DT
ORGANIZER;CN=admin:MAILTO:admin@cdra.org.uk
DTSTART;TZID=Europe/London:20260227T183000
DTEND;TZID=Europe/London:20260227T193000
X-ALT-DESC;FMTTYPE=TEXT/HTML:<p>Contact: Emma legwarmersandlaughs@gmail.com
 </p>\n
CATEGORIES:Clubs &amp; Activities
URL;VALUE=URI:https://cdra.org.uk/mc-events/legwarmers-and-laughs/
METHOD:PUBLISH
END:VEVENT
END:VCALENDAR