BEGIN:VCALENDAR
VERSION:2.0
PRODID:spatie/icalendar-generator
DESCRIPTION:Events from Connor Downs Residents&amp;#039\; Association
X-WR-CALDESC:Events from Connor Downs Residents&amp;#039\; Association
REFRESH-INTERVAL;VALUE=DURATION:PT1440M
X-PUBLISHED-TTL:PT1440M
BEGIN:VTIMEZONE
TZID:Europe/London
BEGIN:STANDARD
DTSTART:20251026T020000Z
TZOFFSETFROM:+0100
TZOFFSETTO:+0000
END:STANDARD
BEGIN:DAYLIGHT
DTSTART:20260329T010000Z
TZOFFSETFROM:+0000
TZOFFSETTO:+0100
END:DAYLIGHT
BEGIN:STANDARD
DTSTART:20261025T020000Z
TZOFFSETFROM:+0100
TZOFFSETTO:+0000
END:STANDARD
END:VTIMEZONE
BEGIN:VTIMEZONE
TZID:UTC
BEGIN:STANDARD
DTSTART:20250723T191248Z
TZOFFSETFROM:+0000
TZOFFSETTO:+0000
END:STANDARD
END:VTIMEZONE
BEGIN:VEVENT
UID:623-24
DTSTAMP:20260419T191248Z
SUMMARY:Independent Chapel  Sunday Service
LOCATION:
ORGANIZER;CN=admin:MAILTO:admin@cdra.org.uk
RRULE:FREQ=WEEKLY;UNTIL=20261201T000000Z
DTSTART;TZID=Europe/London:20260517T180000
DTEND;TZID=Europe/London:20260517T190000
X-ALT-DESC;FMTTYPE=TEXT/HTML:Check Chapel Noticeboard
CATEGORIES:Clubs &amp; Activities
URL;VALUE=URI:https://cdra.org.uk/mc-events/independent-chapel-sunday-servi
 ce/?mc_id=623
METHOD:PUBLISH
END:VEVENT
END:VCALENDAR