BEGIN:VCALENDAR
VERSION:2.0
PRODID:spatie/icalendar-generator
DESCRIPTION:Events from Connor Downs Residents&amp;#039\; Association
X-WR-CALDESC:Events from Connor Downs Residents&amp;#039\; Association
REFRESH-INTERVAL;VALUE=DURATION:PT1440M
X-PUBLISHED-TTL:PT1440M
BEGIN:VTIMEZONE
TZID:Europe/London
BEGIN:STANDARD
DTSTART:20251026T020000Z
TZOFFSETFROM:+0100
TZOFFSETTO:+0000
END:STANDARD
BEGIN:DAYLIGHT
DTSTART:20260329T010000Z
TZOFFSETFROM:+0000
TZOFFSETTO:+0100
END:DAYLIGHT
BEGIN:STANDARD
DTSTART:20261025T020000Z
TZOFFSETFROM:+0100
TZOFFSETTO:+0000
END:STANDARD
END:VTIMEZONE
BEGIN:VTIMEZONE
TZID:UTC
BEGIN:STANDARD
DTSTART:20250723T172240Z
TZOFFSETFROM:+0000
TZOFFSETTO:+0000
END:STANDARD
END:VTIMEZONE
BEGIN:VEVENT
UID:654-23
DTSTAMP:20260419T172240Z
SUMMARY:Family Service (3rd Sunday)
LOCATION:Gwithian Church (St. Gothians Church) 11 Churchtown Road Gwithian 
 Hayle Cornwall TR27 5BX
ORGANIZER;CN=admin:MAILTO:admin@cdra.org.uk
RRULE:FREQ=MONTHLY;BYDAY=3SU;UNTIL=20261201T000000Z
DTSTART;TZID=Europe/London:20260517T110000
DTEND;TZID=Europe/London:20260517T120000
X-ALT-DESC;FMTTYPE=TEXT/HTML:
CATEGORIES:Clubs &amp; Activities
URL;VALUE=URI:https://cdra.org.uk/mc-events/family-service-3rd-sunday/?mc_i
 d=654
METHOD:PUBLISH
END:VEVENT
END:VCALENDAR