BEGIN:VCALENDAR
VERSION:2.0
PRODID:spatie/icalendar-generator
DESCRIPTION:Events from Connor Downs Residents&amp;#039\; Association
X-WR-CALDESC:Events from Connor Downs Residents&amp;#039\; Association
REFRESH-INTERVAL;VALUE=DURATION:PT1440M
X-PUBLISHED-TTL:PT1440M
BEGIN:VTIMEZONE
TZID:Europe/London
BEGIN:STANDARD
DTSTART:20251026T020000Z
TZOFFSETFROM:+0100
TZOFFSETTO:+0000
END:STANDARD
BEGIN:DAYLIGHT
DTSTART:20260329T010000Z
TZOFFSETFROM:+0000
TZOFFSETTO:+0100
END:DAYLIGHT
END:VTIMEZONE
BEGIN:VTIMEZONE
TZID:UTC
BEGIN:STANDARD
DTSTART:20250723T191558Z
TZOFFSETFROM:+0000
TZOFFSETTO:+0000
END:STANDARD
END:VTIMEZONE
BEGIN:VEVENT
UID:680-20
DTSTAMP:20260419T191558Z
SUMMARY:Morning Service (1st Sunday)
LOCATION:Gwithian Church (St. Gothians Church) 11 Churchtown Road Gwithian 
 Hayle Cornwall TR27 5BX
ORGANIZER;CN=admin:MAILTO:admin@cdra.org.uk
RRULE:FREQ=MONTHLY;BYDAY=1SU;UNTIL=20261201T000000Z
DTSTART;TZID=Europe/London:20260301T110000
DTEND;TZID=Europe/London:20260301T120000
X-ALT-DESC;FMTTYPE=TEXT/HTML:
CATEGORIES:Clubs &amp; Activities
URL;VALUE=URI:https://cdra.org.uk/mc-events/morning-service-1st-sunday/?mc_
 id=680
METHOD:PUBLISH
END:VEVENT
END:VCALENDAR