BEGIN:VCALENDAR
VERSION:2.0
PRODID:spatie/icalendar-generator
DESCRIPTION:Events from Connor Downs Residents&amp;#039\; Association
X-WR-CALDESC:Events from Connor Downs Residents&amp;#039\; Association
REFRESH-INTERVAL;VALUE=DURATION:PT1440M
X-PUBLISHED-TTL:PT1440M
BEGIN:VTIMEZONE
TZID:Europe/London
BEGIN:STANDARD
DTSTART:20251026T020000Z
TZOFFSETFROM:+0100
TZOFFSETTO:+0000
END:STANDARD
BEGIN:DAYLIGHT
DTSTART:20260329T010000Z
TZOFFSETFROM:+0000
TZOFFSETTO:+0100
END:DAYLIGHT
END:VTIMEZONE
BEGIN:VTIMEZONE
TZID:UTC
BEGIN:STANDARD
DTSTART:20250723T224047Z
TZOFFSETFROM:+0000
TZOFFSETTO:+0000
END:STANDARD
END:VTIMEZONE
BEGIN:VEVENT
UID:689-18
DTSTAMP:20260419T224047Z
SUMMARY:Village Coffee Morning
LOCATION:WI Hall WI Hall  Turnpike Road   TR27 5DT
ORGANIZER;CN=admin:MAILTO:admin@cdra.org.uk
RRULE:FREQ=MONTHLY;BYDAY=4SA;UNTIL=20261201T000000Z
DTSTART;TZID=Europe/London:20260228T103000
DTEND;TZID=Europe/London:20260228T120000
X-ALT-DESC;FMTTYPE=TEXT/HTML:Monthly Village Coffee Morning (Check posters 
 &amp;amp\; notice board)
CATEGORIES:Clubs &amp; Activities
URL;VALUE=URI:https://cdra.org.uk/mc-events/village-coffee-morning/?mc_id=6
 89
METHOD:PUBLISH
END:VEVENT
END:VCALENDAR