BEGIN:VCALENDAR
VERSION:2.0
PRODID:spatie/icalendar-generator
DESCRIPTION:Events from Connor Downs Residents&amp;#039\; Association
X-WR-CALDESC:Events from Connor Downs Residents&amp;#039\; Association
REFRESH-INTERVAL;VALUE=DURATION:PT1440M
X-PUBLISHED-TTL:PT1440M
BEGIN:VTIMEZONE
TZID:Europe/London
BEGIN:STANDARD
DTSTART:20251026T020000Z
TZOFFSETFROM:+0100
TZOFFSETTO:+0000
END:STANDARD
BEGIN:DAYLIGHT
DTSTART:20260329T010000Z
TZOFFSETFROM:+0000
TZOFFSETTO:+0100
END:DAYLIGHT
BEGIN:STANDARD
DTSTART:20261025T020000Z
TZOFFSETFROM:+0100
TZOFFSETTO:+0000
END:STANDARD
END:VTIMEZONE
BEGIN:VTIMEZONE
TZID:UTC
BEGIN:STANDARD
DTSTART:20250724T001853Z
TZOFFSETFROM:+0000
TZOFFSETTO:+0000
END:STANDARD
END:VTIMEZONE
BEGIN:VEVENT
UID:514-14
DTSTAMP:20260420T001853Z
SUMMARY:Scrabble Club
LOCATION:WI Hall WI Hall  Turnpike Road   TR27 5DT
ORGANIZER;CN=admin:MAILTO:admin@cdra.org.uk
RRULE:FREQ=MONTHLY;BYDAY=2TH;UNTIL=20270211T000000Z
DTSTART;TZID=Europe/London:20260514T140000
DTEND;TZID=Europe/London:20260514T160000
X-ALT-DESC;FMTTYPE=TEXT/HTML:<p>Contact 759 414</p>\n
CATEGORIES:Clubs &amp; Activities
URL;VALUE=URI:https://cdra.org.uk/mc-events/scrabble-club/?mc_id=514
METHOD:PUBLISH
END:VEVENT
END:VCALENDAR